Workbook

Sheet 研究経費出納帳
A1: プロジェクト名： | I1: 【様式６】
D3: 研究経費出納帳
A5: 月 | B5: 日 | C5: 勘定科目 | E5: 摘 要 | H5: 使用金額 | I5: 差引残高
C6: コード | D6: 科目名
C7: 1 | D7: =IF(C7="","",IF(ISNA(VLOOKUP(C7,科目一覧!$B$5:$C$54,2,FALSE)),"未登録",VLOOKUP(C7,科目一覧!$B$5:$C$54,2,FALSE))) -> 今年度研究費 | I7: 150000
A8: =IF(B8="","",$G$3) | D8: =IF(C8="","",IF(ISNA(VLOOKUP(C8,科目一覧!$B$5:$C$54,2,FALSE)),"未登録",VLOOKUP(C8,科目一覧!$B$5:$C$54,2,FALSE))) | I8: =IF(H8="","",I7-H8)
A9: =IF(B9="","",$G$3) | D9: =IF(C9="","",IF(ISNA(VLOOKUP(C9,科目一覧!$B$5:$C$54,2,FALSE)),"未登録",VLOOKUP(C9,科目一覧!$B$5:$C$54,2,FALSE))) | I9: =IF(H9="","",I8-H9)
A10: =IF(B10="","",$G$3) | D10: =IF(C10="","",IF(ISNA(VLOOKUP(C10,科目一覧!$B$5:$C$54,2,FALSE)),"未登録",VLOOKUP(C10,科目一覧!$B$5:$C$54,2,FALSE))) | I10: =IF(H10="","",I9-H10)
A11: =IF(B11="","",$G$3) | D11: =IF(C11="","",IF(ISNA(VLOOKUP(C11,科目一覧!$B$5:$C$54,2,FALSE)),"未登録",VLOOKUP(C11,科目一覧!$B$5:$C$54,2,FALSE))) | I11: =IF(H11="","",I10-H11)
A12: =IF(B12="","",$G$3) | D12: =IF(C12="","",IF(ISNA(VLOOKUP(C12,科目一覧!$B$5:$C$54,2,FALSE)),"未登録",VLOOKUP(C12,科目一覧!$B$5:$C$54,2,FALSE))) | I12: =IF(H12="","",I11-H12)
A13: =IF(B13="","",$G$3) | D13: =IF(C13="","",IF(ISNA(VLOOKUP(C13,科目一覧!$B$5:$C$54,2,FALSE)),"未登録",VLOOKUP(C13,科目一覧!$B$5:$C$54,2,FALSE))) | I13: =IF(H13="","",I12-H13)
A14: =IF(B14="","",$G$3) | D14: =IF(C14="","",IF(ISNA(VLOOKUP(C14,科目一覧!$B$5:$C$54,2,FALSE)),"未登録",VLOOKUP(C14,科目一覧!$B$5:$C$54,2,FALSE))) | I14: =IF(H14="","",I13-H14)
A15: =IF(B15="","",$G$3) | D15: =IF(C15="","",IF(ISNA(VLOOKUP(C15,科目一覧!$B$5:$C$54,2,FALSE)),"未登録",VLOOKUP(C15,科目一覧!$B$5:$C$54,2,FALSE))) | I15: =IF(H15="","",I14-H15)
A16: =IF(B16="","",$G$3) | D16: =IF(C16="","",IF(ISNA(VLOOKUP(C16,科目一覧!$B$5:$C$54,2,FALSE)),"未登録",VLOOKUP(C16,科目一覧!$B$5:$C$54,2,FALSE))) | I16: =IF(H16="","",I15-H16)
A17: =IF(B17="","",$G$3) | D17: =IF(C17="","",IF(ISNA(VLOOKUP(C17,科目一覧!$B$5:$C$54,2,FALSE)),"未登録",VLOOKUP(C17,科目一覧!$B$5:$C$54,2,FALSE))) | I17: =IF(H17="","",I16-H17)
A18: =IF(B18="","",$G$3) | D18: =IF(C18="","",IF(ISNA(VLOOKUP(C18,科目一覧!$B$5:$C$54,2,FALSE)),"未登録",VLOOKUP(C18,科目一覧!$B$5:$C$54,2,FALSE))) | I18: =IF(H18="","",I17-H18)
A19: =IF(B19="","",$G$3) | D19: =IF(C19="","",IF(ISNA(VLOOKUP(C19,科目一覧!$B$5:$C$54,2,FALSE)),"未登録",VLOOKUP(C19,科目一覧!$B$5:$C$54,2,FALSE))) | I19: =IF(H19="","",I18-H19)
... A44: =IF(B44="","",$G$3) | D44: =IF(C44="","",IF(ISNA(VLOOKUP(C44,科目一覧!$B$5:$C$54,2,FALSE)),"未登録",VLOOKUP(C44,科目一覧!$B$5:$C$54,2,FALSE))) | I44: =IF(H44="","",I43-H44)

Sheet 科目一覧
B1: ※コードNOと科目名を、セルB5からセルC54に設定したコードマスターに入力してください。
B2: コードNOは重複しないように設定してください。
B4: コードマスター
B5: コードNO | C5: 科目名
B6: 1 | C6: 今年度研究費
B7: 2 | C7: 消耗品
B8: 3 | C8: 備品
B9: 4 | C9: 印刷費
B10: 5 | C10: 通信費
B11: 6 | C11: 交通費
B12: 7 | C12: 宿泊費
B13: 8 | C13: 入場料・施設使用料
B14: 9 | C14: 運搬費
B15: 10 | C15: 謝礼金
B16: 11 | C16: 雑費
B17: 12
B18: 13
B19: 14
B20: 15
B21: 16
B22: 17
B23: 18
B24: 19
B25: 20
B26: 21
B27: 22
B28: 23

Sheet 使い方
A1: プロジェクト名：
E3: 現金出納帳
A5: 月 | B5: 日 | C5: 勘定科目 | E5: 摘 要 | H5: 使用金額 | J5: 差引残高
C6: コード | D6: 科目名
A7: 4 | B7: 1 | C7: 1 | D7: =IF(C7="","",IF(ISNA(VLOOKUP(C7,科目一覧!$B$5:$C$54,2,FALSE)),"未登録",VLOOKUP(C7,科目一覧!$B$5:$C$54,2,FALSE))) -> 今年度研究費 | J7: 150000
A8: 4 | B8: 1 | C8: 3 | D8: =IF(C8="","",IF(ISNA(VLOOKUP(C8,科目一覧!$B$5:$C$54,2,FALSE)),"未登録",VLOOKUP(C8,科目一覧!$B$5:$C$54,2,FALSE))) -> 備品 | E8: アスクル | H8: 80000 | J8: =IF(H8="","",J7-H8) -> 70000
A9: 4 | B9: 2 | C9: 6 | D9: =IF(C9="","",IF(ISNA(VLOOKUP(C9,科目一覧!$B$5:$C$54,2,FALSE)),"未登録",VLOOKUP(C9,科目一覧!$B$5:$C$54,2,FALSE))) -> 交通費 | E9: 切手代 | H9: 1800 | J9: =IF(H9="","",J8-H9) -> 68200
A10: =IF(B10="","",$G$3) | D10: =IF(C10="","",IF(ISNA(VLOOKUP(C10,科目一覧!$B$5:$C$54,2,FALSE)),"未登録",VLOOKUP(C10,科目一覧!$B$5:$C$54,2,FALSE))) | J10: =IF(H10="","",J9-H10)
A11: =IF(B11="","",$G$3) | D11: =IF(C11="","",IF(ISNA(VLOOKUP(C11,科目一覧!$B$5:$C$54,2,FALSE)),"未登録",VLOOKUP(C11,科目一覧!$B$5:$C$54,2,FALSE))) | J11: =IF(H11="","",J10-H11)
A12: =IF(B12="","",$G$3) | D12: =IF(C12="","",IF(ISNA(VLOOKUP(C12,科目一覧!$B$5:$C$54,2,FALSE)),"未登録",VLOOKUP(C12,科目一覧!$B$5:$C$54,2,FALSE))) | J12: =IF(H12="","",J11-H12)
A13: =IF(B13="","",$G$3) | D13: =IF(C13="","",IF(ISNA(VLOOKUP(C13,科目一覧!$B$5:$C$54,2,FALSE)),"未登録",VLOOKUP(C13,科目一覧!$B$5:$C$54,2,FALSE))) | J13: =IF(H13="","",J12-H13)
A14: =IF(B14="","",$G$3) | D14: =IF(C14="","",IF(ISNA(VLOOKUP(C14,科目一覧!$B$5:$C$54,2,FALSE)),"未登録",VLOOKUP(C14,科目一覧!$B$5:$C$54,2,FALSE))) | J14: =IF(H14="","",J13-H14)
A15: =IF(B15="","",$G$3) | D15: =IF(C15="","",IF(ISNA(VLOOKUP(C15,科目一覧!$B$5:$C$54,2,FALSE)),"未登録",VLOOKUP(C15,科目一覧!$B$5:$C$54,2,FALSE))) | J15: =IF(H15="","",J14-H15)
A16: =IF(B16="","",$G$3) | D16: =IF(C16="","",IF(ISNA(VLOOKUP(C16,科目一覧!$B$5:$C$54,2,FALSE)),"未登録",VLOOKUP(C16,科目一覧!$B$5:$C$54,2,FALSE))) | J16: =IF(H16="","",J15-H16)
A17: =IF(B17="","",$G$3) | D17: =IF(C17="","",IF(ISNA(VLOOKUP(C17,科目一覧!$B$5:$C$54,2,FALSE)),"未登録",VLOOKUP(C17,科目一覧!$B$5:$C$54,2,FALSE))) | J17: =IF(H17="","",J16-H17)
A18: =IF(B18="","",$G$3) | D18: =IF(C18="","",IF(ISNA(VLOOKUP(C18,科目一覧!$B$5:$C$54,2,FALSE)),"未登録",VLOOKUP(C18,科目一覧!$B$5:$C$54,2,FALSE))) | J18: =IF(H18="","",J17-H18)
A19: =IF(B19="","",$G$3) | D19: =IF(C19="","",IF(ISNA(VLOOKUP(C19,科目一覧!$B$5:$C$54,2,FALSE)),"未登録",VLOOKUP(C19,科目一覧!$B$5:$C$54,2,FALSE))) | J19: =IF(H19="","",J18-H19)
A20: =IF(B20="","",$G$3) | D20: =IF(C20="","",IF(ISNA(VLOOKUP(C20,科目一覧!$B$5:$C$54,2,FALSE)),"未登録",VLOOKUP(C20,科目一覧!$B$5:$C$54,2,FALSE))) | J20: =IF(H20="","",J19-H20)
A21: =IF(B21="","",$G$3) | D21: =IF(C21="","",IF(ISNA(VLOOKUP(C21,科目一覧!$B$5:$C$54,2,FALSE)),"未登録",VLOOKUP(C21,科目一覧!$B$5:$C$54,2,FALSE))) | J21: =IF(H21="","",J20-H21)
... A44: =IF(B44="","",$G$3) | D44: =IF(C44="","",IF(ISNA(VLOOKUP(C44,科目一覧!$B$5:$C$54,2,FALSE)),"未登録",VLOOKUP(C44,科目一覧!$B$5:$C$54,2,FALSE))) | J44: =IF(H44="","",J43-H44)
